BEGIN:VCALENDAR
PRODID:-//eluceo/ical//2.0/EN
VERSION:2.0
CALSCALE:GREGORIAN
BEGIN:VEVENT
UID:93d247f8a5cb294ebfd64fa7143f6614
DTSTAMP:20260424T083532Z
SUMMARY:Balades vélos à Silly
DESCRIPTION:Website: https://www.facebook.com/rotarysilly\nSpeaker(s): 
URL:https://silly-roots-hope.rotary2150.org/en/agenda/show/96873
DTSTART;TZID=Europe/Zurich:20260509T083000
DTEND;TZID=Europe/Zurich:20260509T160000
LOCATION:rue Saint-Marcoult 31 à 7830 Silly
CATEGORIES:Rotary
END:VEVENT
BEGIN:VTIMEZONE
TZID:Europe/Zurich
BEGIN:DAYLIGHT
DTSTART:20260509T083000
TZNAME:CEST
TZOFFSETTO:+0200
TZOFFSETFROM:+0200
END:DAYLIGHT
END:VTIMEZONE
END:VCALENDAR
